BEGIN:VCALENDAR
VERSION:2.0
METHOD:PUBLISH
PRODID::-//Obvius//NONSGML ICal//DA
BEGIN:VEVENT
UID:2613467@www.math.ku.dk
DESCRIPTION:Titel: Point Process Representation of Sum-and Max-Stable Proc
 esses with Applications to Simulation. \n\nhttps://www.math.ku.dk/english
 /calendar/events/specialeforsvar-ved-moritz-korte-stapff/
SUMMARY:Specialeforsvar ved Moritz Korte-Stapff
LOCATION:AUD 10
ORGANIZER:MATH
DTSTART:20170821T111000Z
DTSTAMP:20170821T111000Z
END:VEVENT
END:VCALENDAR
