BEGIN:VCALENDAR
VERSION:2.0
METHOD:PUBLISH
PRODID::-//Obvius//NONSGML ICal//DA
BEGIN:VEVENT
UID:2888416@www.math.ku.dk
DESCRIPTION:Specialeforsvar vd Kristian Peter Poulsen\n\nhttps://www.math.
 ku.dk/english/calendar/events/speciale-astridh/speciale-kpp/
SUMMARY:Classifying thick subcategories of the stable category of Cohen-Ma
 caulay modules
CATEGORIES:specialeforsvar
LOCATION:aud. 4
ORGANIZER:Institut for Matematiske Fag
DTSTART:20180321T153000Z
DTSTAMP:20180321T153000Z
END:VEVENT
END:VCALENDAR
