BEGIN:VCALENDAR
VERSION:2.0
METHOD:PUBLISH
PRODID::-//Obvius//NONSGML ICal//DA
BEGIN:VEVENT
UID:3070281@www.math.ku.dk
DESCRIPTION:PhD Defense: Manuel Krannich. Title: On characteristic classe
 s of manifold bundles\n\nhttps://www.math.ku.dk/english/calendar/events/ph
 d-defense-manuel-krannich/
SUMMARY:PhD Defense: Manuel Krannich
LOCATION:HCØ\, Aud 4\, Universitetsparken 5\, 2100 København Ø
ORGANIZER:MATH
DTSTART:20181019T080000Z
DTSTAMP:20181019T080000Z
DTEND:20181018T220000Z
END:VEVENT
END:VCALENDAR
