BEGIN:VCALENDAR
VERSION:2.0
METHOD:PUBLISH
PRODID::-//Obvius//NONSGML ICal//DA
BEGIN:VEVENT
UID:2714864@www.math.ku.dk
DESCRIPTION:Title:Diffusion Models Observed at High Frequency and Applicat
 ions in Finance\n\nhttps://www.math.ku.dk/english/calendar/events/phd-defe
 nse-emil-s.-joergensen/
SUMMARY:PhD Defense Emil S. Jørgensen 
CATEGORIES:ph.d.-forsvar
LOCATION:Aud 5\, HCØ\, Universitetsparken 5\, 2100 Copenhagen
ORGANIZER:MATH
DTSTART:20171013T111500Z
DTSTAMP:20171013T111500Z
DTEND:20171012T220000Z
END:VEVENT
END:VCALENDAR
