BEGIN:VCALENDAR
VERSION:2.0
METHOD:PUBLISH
PRODID::-//Obvius//NONSGML ICal//DA
BEGIN:VEVENT
UID:3831482@www.math.ku.dk
DESCRIPTION:\n\nhttps://www.math.ku.dk/english/calendar/events/phd-defence
 -zhipeng-duan/
SUMMARY:PhD Defense Zhipeng Duan
CATEGORIES:Ph.d.-forsvar
LOCATION:You are invited to an online defense
ORGANIZER:MATH
DTSTART:20201211T090000Z
DTSTAMP:20201211T090000Z
DTEND:20201210T230000Z
END:VEVENT
END:VCALENDAR
