BEGIN:VCALENDAR
VERSION:2.0
METHOD:PUBLISH
PRODID::-//Obvius//NONSGML ICal//DA
BEGIN:VEVENT
UID:2477966@www.math.ku.dk
DESCRIPTION:Seminar talk given by Tatiana Shulman (IMPAN): "Stability unde
 r small tracial perturbations for C*-algebras".\n\nhttps://www.math.ku.dk/
 english/calendar/events/oa-seminar-shulman/
SUMMARY:Operator algebra seminar
LOCATION:Aud 8
ORGANIZER:C. Cave and V. Proietti
DTSTART:20170419T131500Z
DTSTAMP:20170419T131500Z
DTEND:20170419T141500Z
END:VEVENT
END:VCALENDAR
