BEGIN:VCALENDAR
VERSION:2.0
METHOD:PUBLISH
PRODID::-//Obvius//NONSGML ICal//DA
BEGIN:VEVENT
UID:2800543@www.math.ku.dk
DESCRIPTION:Seminar talk given by Suleyman Kagan Samurkas (Texas A&M)\n\n
 https://www.math.ku.dk/english/calendar/events/oa-seminar-samurkas-18/
SUMMARY:Operator algebra seminar
CATEGORIES:seminar
LOCATION:Aud 8
ORGANIZER:C. Cave and G. Szabo
DTSTART:20180112T130000Z
DTSTAMP:20180112T130000Z
DTEND:20180112T140000Z
END:VEVENT
END:VCALENDAR
