BEGIN:VCALENDAR
VERSION:2.0
METHOD:PUBLISH
PRODID::-//Obvius//NONSGML ICal//DA
BEGIN:VEVENT
UID:2880589@www.math.ku.dk
DESCRIPTION:Seminar talk given by Adam Dor-on (Techion)\n\nhttps://www.mat
 h.ku.dk/english/calendar/events/oa-seminar-dor-on/
SUMMARY:Operator algbera seminar
CATEGORIES:seminar
LOCATION:Aud 5
ORGANIZER:C. Cave and G. Szabo
DTSTART:20180315T141500Z
DTSTAMP:20180315T141500Z
DTEND:20180315T151500Z
END:VEVENT
END:VCALENDAR
