BEGIN:VCALENDAR
VERSION:2.0
METHOD:PUBLISH
PRODID::-//Obvius//NONSGML ICal//DA
BEGIN:VEVENT
UID:2673698@www.math.ku.dk
DESCRIPTION:Progress Seminar by Espen Nielsen\n\nhttps://www.math.ku.dk/en
 glish/calendar/events/espen-nielsen-progress-seminar/
SUMMARY:Operations on (Topological) Hochschild Homology
CATEGORIES:seminar
LOCATION:04.4.01
ORGANIZER:Espen Auseth Nielsen
DTSTART:20170920T131500Z
DTSTAMP:20170920T131500Z
DTEND:20170920T140000Z
END:VEVENT
END:VCALENDAR
