BEGIN:VCALENDAR
VERSION:2.0
METHOD:PUBLISH
PRODID::-//Obvius//NONSGML ICal//DA
BEGIN:VEVENT
UID:4901589@www.math.ku.dk
DESCRIPTION:Fourth lecture in a lecture series by Ishan Levy\n\nhttps://ww
 w.math.ku.dk/english/calendar/events/arithmetic-statistics-for-homotopy-th
 eorists4/
SUMMARY:Arithmetic statistics for homotopy theorists\, lecture 4
LOCATION:Aud 7
DTSTART:20250328T120000Z
DTSTAMP:20250328T120000Z
DTEND:20250328T130000Z
END:VEVENT
END:VCALENDAR
