BEGIN:VCALENDAR
VERSION:2.0
METHOD:PUBLISH
PRODID::-//Obvius//NONSGML ICal//DA
BEGIN:VEVENT
UID:3197031@www.math.ku.dk
DESCRIPTION:Pariya Behrouzi (Wageningen University and Research): Extensi
 ons of Graphical Models with their Applications\n\nhttps://www.math.ku.dk/
 english/calendar/events/applied_math_and_stats/pariyabehrouzi/
SUMMARY:Seminar in applied mathematics and statistics
CATEGORIES:seminar
LOCATION:Aud. 8
ORGANIZER:Bo Markussen
DTSTART:20181114T101500Z
DTSTAMP:20181114T101500Z
DTEND:20181113T230000Z
END:VEVENT
END:VCALENDAR
