BEGIN:VCALENDAR
VERSION:2.0
METHOD:PUBLISH
PRODID::-//Obvius//NONSGML ICal//DA
BEGIN:VEVENT
UID:2659799@www.math.ku.dk
DESCRIPTION:Changming Ding: Predator-prey model with impulsive effects\n\n
 https://www.math.ku.dk/english/calendar/events/applied_math_and_stats/bism
 arksingh_kopi/
SUMMARY:Seminar in applied mathematics and statistics
CATEGORIES:seminar
LOCATION:Aud. 7
ORGANIZER:Bo Markussen
DTSTART:20170901T111500Z
DTSTAMP:20170901T111500Z
DTEND:20170831T220000Z
END:VEVENT
END:VCALENDAR
