BEGIN:VCALENDAR
VERSION:2.0
METHOD:PUBLISH
PRODID::-//Obvius//NONSGML ICal//DA
BEGIN:VEVENT
UID:2321192@www.math.ku.dk
DESCRIPTION:Masterclass with lectures by Toke Meier Carlsen (Faroe Islands
 ) and Xin Li (Queen Mary University of London).\n\nhttps://www.math.ku.dk/
 english/calendar/events/masterclass2017-rigidity-dynamics/
SUMMARY:Rigidity of C*-algebras associated to dynamics
ORGANIZER:S. Arklint\, K. Brix\, S. Eilers
DTSTART:20171015T220000Z
DTSTAMP:20171015T220000Z
DTEND:20171019T220000Z
END:VEVENT
END:VCALENDAR
